BEGIN:VCALENDAR
VERSION:2.0
PRODID:-//Converge Technology Solutions - ECPv6.15.20//NONSGML v1.0//EN
CALSCALE:GREGORIAN
METHOD:PUBLISH
X-ORIGINAL-URL:https://convergetp.com
X-WR-CALDESC:Events for Converge Technology Solutions
REFRESH-INTERVAL;VALUE=DURATION:PT1H
X-Robots-Tag:noindex
X-PUBLISHED-TTL:PT1H
BEGIN:VTIMEZONE
TZID:America/Halifax
BEGIN:DAYLIGHT
TZOFFSETFROM:-0400
TZOFFSETTO:-0300
TZNAME:ADT
DTSTART:20210314T060000
END:DAYLIGHT
BEGIN:STANDARD
TZOFFSETFROM:-0300
TZOFFSETTO:-0400
TZNAME:AST
DTSTART:20211107T050000
END:STANDARD
BEGIN:DAYLIGHT
TZOFFSETFROM:-0400
TZOFFSETTO:-0300
TZNAME:ADT
DTSTART:20220313T060000
END:DAYLIGHT
BEGIN:STANDARD
TZOFFSETFROM:-0300
TZOFFSETTO:-0400
TZNAME:AST
DTSTART:20221106T050000
END:STANDARD
BEGIN:DAYLIGHT
TZOFFSETFROM:-0400
TZOFFSETTO:-0300
TZNAME:ADT
DTSTART:20230312T060000
END:DAYLIGHT
BEGIN:STANDARD
TZOFFSETFROM:-0300
TZOFFSETTO:-0400
TZNAME:AST
DTSTART:20231105T050000
END:STANDARD
END:VTIMEZONE
BEGIN:VEVENT
DTSTART;TZID=America/Halifax:20220421T110000
DTEND;TZID=America/Halifax:20220421T120000
DTSTAMP:20260422T044056
CREATED:20220406T145843Z
LAST-MODIFIED:20220503T161700Z
UID:26451-1650538800-1650542400@convergetp.com
SUMMARY:Earth Day Webinar
DESCRIPTION:This event has passed\, however you can view it here \nIf you have any questions\, please contact: Amy Barnes | amy.barnes@convergetp.com
URL:https://convergetp.com/event/earth-day-webinar/
LOCATION:Virtual
CATEGORIES:Digital Infrastructure
ATTACH;FMTTYPE=image/jpeg:https://convergetp.com/wp-content/uploads/2022/04/Cisco-Logo-for-Events.jpg
END:VEVENT
BEGIN:VEVENT
DTSTART;TZID=America/Halifax:20220421T163000
DTEND;TZID=America/Halifax:20220421T180000
DTSTAMP:20260422T044056
CREATED:20220406T144604Z
LAST-MODIFIED:20220503T161731Z
UID:26446-1650558600-1650564000@convergetp.com
SUMMARY:AI Ops and Cloud Management Weber Grill Event
DESCRIPTION:This event has passed\, however please contact Annie Wallace if you are interested in learning more: annie.wallace@convergetp.com \nWhat comes with the event:\n\nAn Introduction to Aruba Networks & Converge\nFollow along as a Weber Grill Academy Chef demonstrates the best methods for preparing and grilling meat\nDuring the event you will be entered into a live raffle for a chance to win a Weber IGrill Thermometer\nSchedule a follow on meeting to receive a Weber steak package!\n\nWhat you will learn:\n\nHow Aruba Networks can help you accelerate digital business transformation through automated network management\, Edge-to-cloud security\, and predictive AI-powered insights with up to 95% accuracy\nHow leveraging AI Insights will let you know when your network devices or sites are experiencing issues
URL:https://convergetp.com/event/ai-ops-and-cloud-management-weber-grill-event/
LOCATION:Virtual
CATEGORIES:Digital Infrastructure
ATTACH;FMTTYPE=image/jpeg:https://convergetp.com/wp-content/uploads/2022/04/Aruba-Logo-for-Events.jpg
END:VEVENT
END:VCALENDAR