BEGIN:VCALENDAR
VERSION:2.0
PRODID:-//Converge Technology Solutions - ECPv6.15.20//NONSGML v1.0//EN
CALSCALE:GREGORIAN
METHOD:PUBLISH
X-ORIGINAL-URL:https://convergetp.com
X-WR-CALDESC:Events for Converge Technology Solutions
REFRESH-INTERVAL;VALUE=DURATION:PT1H
X-Robots-Tag:noindex
X-PUBLISHED-TTL:PT1H
BEGIN:VTIMEZONE
TZID:UTC
BEGIN:STANDARD
TZOFFSETFROM:+0000
TZOFFSETTO:+0000
TZNAME:UTC
DTSTART:20210101T000000
END:STANDARD
END:VTIMEZONE
BEGIN:VEVENT
DTSTART;TZID=UTC:20221018T110000
DTEND;TZID=UTC:20221018T120000
DTSTAMP:20260421T072548
CREATED:20220805T215627Z
LAST-MODIFIED:20220805T215627Z
UID:32413-1666090800-1666094400@convergetp.com
SUMMARY:AWS Cloud Advisory Series #3
DESCRIPTION:Join us for AWS Cloud Advisory Series #3! If interested\, please reach out to Amy Barnes at amy.barnes@convergetp.com
URL:https://convergetp.com/event/aws-cloud-advisory-series-3/
LOCATION:Virtual
CATEGORIES:Cloud Platforms
ATTACH;FMTTYPE=image/jpeg:https://convergetp.com/wp-content/uploads/2022/04/AWS-Logo-for-Events.jpg
END:VEVENT
BEGIN:VEVENT
DTSTART;TZID=UTC:20221018T110000
DTEND;TZID=UTC:20221018T123000
DTSTAMP:20260421T072548
CREATED:20220814T151745Z
LAST-MODIFIED:20220814T151745Z
UID:32617-1666090800-1666096200@convergetp.com
SUMMARY:Zero Trust Webinar with CBI
DESCRIPTION:Join us for our Zero Trust Webinar with CBI! If interested\, please reach out to Kata Pavlov at kpavlov@convergetp.com
URL:https://convergetp.com/event/zero-trust-webinar-with-cbi/
LOCATION:Virtual
CATEGORIES:Cybersecurity
ATTACH;FMTTYPE=image/jpeg:https://convergetp.com/wp-content/uploads/2022/04/Converge-Logo-for-Events.jpg
END:VEVENT
BEGIN:VEVENT
DTSTART;TZID=UTC:20221018T133000
DTEND;TZID=UTC:20221018T173000
DTSTAMP:20260421T072548
CREATED:20220906T164109Z
LAST-MODIFIED:20221111T164804Z
UID:32898-1666099800-1666114200@convergetp.com
SUMMARY:Converge Innovation Forum Montreal
DESCRIPTION:This event has passed\, but please reach out to Simon Demers if you have any questions at sdemers@pcdsolutions.com \n  \n 
URL:https://convergetp.com/event/converge-innovation-forum-montreal/
LOCATION:Montreal\, Montreal\, Canada
CATEGORIES:Digital Infrastructure
ATTACH;FMTTYPE=image/jpeg:https://convergetp.com/wp-content/uploads/2022/04/Converge-Logo-for-Events.jpg
END:VEVENT
BEGIN:VEVENT
DTSTART;TZID=UTC:20221018T180000
DTEND;TZID=UTC:20221018T220000
DTSTAMP:20260421T072548
CREATED:20220921T162630Z
LAST-MODIFIED:20221130T201944Z
UID:33209-1666116000-1666130400@convergetp.com
SUMMARY:NHL Game: Ottawa SENS Home Opener vs. Boston Bruins
DESCRIPTION:This event has passed\, but please reach out to Kristine Lemire if you’d like to learn more: kristine.lemire@convergetp.com \n\n  \nThe Ottawa Senators are BACK! \nWatch the Sens take on the Boston Bruins live from a 400-level suite with gourmet food and drinks included! Brought to you by Converge Technology Solutions and Microsoft Surface. \nLocation\nCanadian Tire Centre\, Ottawa \n400-Level Suite \nAgenda\n6:00 pm – Doors Open\, Food & Beverages Served \n7:00 pm – Face-off! \n~10:00 pm – Game Ends
URL:https://convergetp.com/event/nhl-game-ottawa-sens-home-opener-vs-boston-bruins/
LOCATION:Ottawa\, Canada\, Ottawa\, K4C\, Canada
CATEGORIES:Digital Infrastructure
ATTACH;FMTTYPE=image/jpeg:https://convergetp.com/wp-content/uploads/2022/04/Microsoft-Logo-for-Events.jpg
END:VEVENT
END:VCALENDAR