BEGIN:VCALENDAR
VERSION:2.0
PRODID:-//Converge Technology Solutions - ECPv6.15.20//NONSGML v1.0//EN
CALSCALE:GREGORIAN
METHOD:PUBLISH
X-WR-CALNAME:Converge Technology Solutions
X-ORIGINAL-URL:https://convergetp.com
X-WR-CALDESC:Events for Converge Technology Solutions
REFRESH-INTERVAL;VALUE=DURATION:PT1H
X-Robots-Tag:noindex
X-PUBLISHED-TTL:PT1H
BEGIN:VTIMEZONE
TZID:America/Toronto
BEGIN:DAYLIGHT
TZOFFSETFROM:-0500
TZOFFSETTO:-0400
TZNAME:EDT
DTSTART:20220313T070000
END:DAYLIGHT
BEGIN:STANDARD
TZOFFSETFROM:-0400
TZOFFSETTO:-0500
TZNAME:EST
DTSTART:20221106T060000
END:STANDARD
BEGIN:DAYLIGHT
TZOFFSETFROM:-0500
TZOFFSETTO:-0400
TZNAME:EDT
DTSTART:20230312T070000
END:DAYLIGHT
BEGIN:STANDARD
TZOFFSETFROM:-0400
TZOFFSETTO:-0500
TZNAME:EST
DTSTART:20231105T060000
END:STANDARD
BEGIN:DAYLIGHT
TZOFFSETFROM:-0500
TZOFFSETTO:-0400
TZNAME:EDT
DTSTART:20240310T070000
END:DAYLIGHT
BEGIN:STANDARD
TZOFFSETFROM:-0400
TZOFFSETTO:-0500
TZNAME:EST
DTSTART:20241103T060000
END:STANDARD
END:VTIMEZONE
BEGIN:VTIMEZONE
TZID:America/Halifax
BEGIN:DAYLIGHT
TZOFFSETFROM:-0400
TZOFFSETTO:-0300
TZNAME:ADT
DTSTART:20220313T060000
END:DAYLIGHT
BEGIN:STANDARD
TZOFFSETFROM:-0300
TZOFFSETTO:-0400
TZNAME:AST
DTSTART:20221106T050000
END:STANDARD
BEGIN:DAYLIGHT
TZOFFSETFROM:-0400
TZOFFSETTO:-0300
TZNAME:ADT
DTSTART:20230312T060000
END:DAYLIGHT
BEGIN:STANDARD
TZOFFSETFROM:-0300
TZOFFSETTO:-0400
TZNAME:AST
DTSTART:20231105T050000
END:STANDARD
BEGIN:DAYLIGHT
TZOFFSETFROM:-0400
TZOFFSETTO:-0300
TZNAME:ADT
DTSTART:20240310T060000
END:DAYLIGHT
BEGIN:STANDARD
TZOFFSETFROM:-0300
TZOFFSETTO:-0400
TZNAME:AST
DTSTART:20241103T050000
END:STANDARD
END:VTIMEZONE
BEGIN:VEVENT
DTSTART;TZID=America/Toronto:20230404T080000
DTEND;TZID=America/Toronto:20230406T170000
DTSTAMP:20260422T073721
CREATED:20230213T005113Z
LAST-MODIFIED:20230213T005113Z
UID:34865-1680595200-1680800400@convergetp.com
SUMMARY:Canadian Armed Forces Outlooks Conference
DESCRIPTION:Join us for the Canadian Armed Forces Outlooks Conference in Ottatwa! \nIf interested\, please reach out to Kristine Lemire at kristine.lemire@convergetp.com
URL:https://convergetp.com/event/canadian-armed-forces-outlooks-conference/
LOCATION:Ottawa\, Canada\, Ottawa\, K4C\, Canada
CATEGORIES:Advanced Analytics,Application Modernization,Cloud Platforms,Cybersecurity,Digital Infrastructure,Digital Workplace,Managed Services,Talent Services
ATTACH;FMTTYPE=image/jpeg:https://convergetp.com/wp-content/uploads/2022/04/Converge-Logo-for-Events.jpg
END:VEVENT
BEGIN:VEVENT
DTSTART;TZID=America/Halifax:20230405T120000
DTEND;TZID=America/Halifax:20230405T133000
DTSTAMP:20260422T073721
CREATED:20230314T192821Z
LAST-MODIFIED:20230314T192821Z
UID:35378-1680696000-1680701400@convergetp.com
SUMMARY:Introduction to Cognos Analytics v11.2 Hands-On Workshop
DESCRIPTION:Not sure about upgrading to Cognos Analytics v11.2? Join us for a free hands-on workshop\, Introduction to Cognos Analytics v11.2! \nWith the release of Cognos Analytics version 11.2.4 in December 2022\, IBM has released the final version in the Cognos Analytics 11.2 series. \nThis series introduced a strong and highly regarded User Interface and Content Navigation changes\, as well as numerous enhancements in report authoring\, dashboards\, data modules and natural language processing. \nThis 90-minute workshop will give you the opportunity to take version 11.2.4 for a spin\, under the guidance of workshop leaders Caitlyn Hochreiter and Rich Chester. \nYou will have the opportunity to experience the new user interface and navigation\, experiment with the new features and get answers to all of your Cognos questions. \nThis workshop is limited to 35 business users in the United States and Canada. Registration does not guarantee attendance. We will confirm each attendee via calendar invitation. \nIf interested\, please reach out to Annie Wallace at annie.wallace@convergetp.com
URL:https://convergetp.com/event/introduction-to-cognos-analytics-v11-2-hands-on-workshop-2/
LOCATION:Virtual
CATEGORIES:Advanced Analytics
ATTACH;FMTTYPE=image/png:https://convergetp.com/wp-content/uploads/2023/03/ibm-logo-for-event-calendar.png
END:VEVENT
END:VCALENDAR