BEGIN:VCALENDAR
VERSION:2.0
PRODID:-//Converge Technology Solutions - ECPv6.15.20//NONSGML v1.0//EN
CALSCALE:GREGORIAN
METHOD:PUBLISH
X-ORIGINAL-URL:https://convergetp.com
X-WR-CALDESC:Events for Converge Technology Solutions
REFRESH-INTERVAL;VALUE=DURATION:PT1H
X-Robots-Tag:noindex
X-PUBLISHED-TTL:PT1H
BEGIN:VTIMEZONE
TZID:America/Toronto
BEGIN:DAYLIGHT
TZOFFSETFROM:-0500
TZOFFSETTO:-0400
TZNAME:EDT
DTSTART:20220313T070000
END:DAYLIGHT
BEGIN:STANDARD
TZOFFSETFROM:-0400
TZOFFSETTO:-0500
TZNAME:EST
DTSTART:20221106T060000
END:STANDARD
BEGIN:DAYLIGHT
TZOFFSETFROM:-0500
TZOFFSETTO:-0400
TZNAME:EDT
DTSTART:20230312T070000
END:DAYLIGHT
BEGIN:STANDARD
TZOFFSETFROM:-0400
TZOFFSETTO:-0500
TZNAME:EST
DTSTART:20231105T060000
END:STANDARD
BEGIN:DAYLIGHT
TZOFFSETFROM:-0500
TZOFFSETTO:-0400
TZNAME:EDT
DTSTART:20240310T070000
END:DAYLIGHT
BEGIN:STANDARD
TZOFFSETFROM:-0400
TZOFFSETTO:-0500
TZNAME:EST
DTSTART:20241103T060000
END:STANDARD
END:VTIMEZONE
BEGIN:VTIMEZONE
TZID:America/Halifax
BEGIN:DAYLIGHT
TZOFFSETFROM:-0400
TZOFFSETTO:-0300
TZNAME:ADT
DTSTART:20220313T060000
END:DAYLIGHT
BEGIN:STANDARD
TZOFFSETFROM:-0300
TZOFFSETTO:-0400
TZNAME:AST
DTSTART:20221106T050000
END:STANDARD
BEGIN:DAYLIGHT
TZOFFSETFROM:-0400
TZOFFSETTO:-0300
TZNAME:ADT
DTSTART:20230312T060000
END:DAYLIGHT
BEGIN:STANDARD
TZOFFSETFROM:-0300
TZOFFSETTO:-0400
TZNAME:AST
DTSTART:20231105T050000
END:STANDARD
BEGIN:DAYLIGHT
TZOFFSETFROM:-0400
TZOFFSETTO:-0300
TZNAME:ADT
DTSTART:20240310T060000
END:DAYLIGHT
BEGIN:STANDARD
TZOFFSETFROM:-0300
TZOFFSETTO:-0400
TZNAME:AST
DTSTART:20241103T050000
END:STANDARD
END:VTIMEZONE
BEGIN:VTIMEZONE
TZID:America/Chicago
BEGIN:DAYLIGHT
TZOFFSETFROM:-0600
TZOFFSETTO:-0500
TZNAME:CDT
DTSTART:20220313T080000
END:DAYLIGHT
BEGIN:STANDARD
TZOFFSETFROM:-0500
TZOFFSETTO:-0600
TZNAME:CST
DTSTART:20221106T070000
END:STANDARD
BEGIN:DAYLIGHT
TZOFFSETFROM:-0600
TZOFFSETTO:-0500
TZNAME:CDT
DTSTART:20230312T080000
END:DAYLIGHT
BEGIN:STANDARD
TZOFFSETFROM:-0500
TZOFFSETTO:-0600
TZNAME:CST
DTSTART:20231105T070000
END:STANDARD
BEGIN:DAYLIGHT
TZOFFSETFROM:-0600
TZOFFSETTO:-0500
TZNAME:CDT
DTSTART:20240310T080000
END:DAYLIGHT
BEGIN:STANDARD
TZOFFSETFROM:-0500
TZOFFSETTO:-0600
TZNAME:CST
DTSTART:20241103T070000
END:STANDARD
END:VTIMEZONE
BEGIN:VEVENT
DTSTART;TZID=America/Toronto:20230604T080000
DTEND;TZID=America/Toronto:20230608T170000
DTSTAMP:20260420T084158
CREATED:20230312T194439Z
LAST-MODIFIED:20230312T194439Z
UID:35324-1685865600-1686243600@convergetp.com
SUMMARY:Cisco Live
DESCRIPTION:Join us for Cisco Live! If interested\, please reach out to Jennifer Pham at jennifer.pham@convergetp.com \nLearn more about the event here
URL:https://convergetp.com/event/cisco-live/
LOCATION:Las Vegas\, Las Vegas\, NV\, 88901\, United States
CATEGORIES:Digital Infrastructure
ATTACH;FMTTYPE=image/jpeg:https://convergetp.com/wp-content/uploads/2022/04/Cisco-Logo-for-Events.jpg
END:VEVENT
BEGIN:VEVENT
DTSTART;TZID=America/Toronto:20230604T080000
DTEND;TZID=America/Toronto:20230608T170000
DTSTAMP:20260420T084158
CREATED:20230427T180902Z
LAST-MODIFIED:20230427T180902Z
UID:36654-1685865600-1686243600@convergetp.com
SUMMARY:Cisco Live in Las Vegas
DESCRIPTION:Join us for the ultimate Cisco Live experience in Las Vegas! Let’s come together to gain knowledge\, cultivate a vision\, build community\, share experiences\, and explore the possibilities of IT! \nLearn more about the event here \nIf interested\, please reach out to Jennifer Pham at jennifer.pham@convergetp.com
URL:https://convergetp.com/event/cisco-live-in-las-vegas/
LOCATION:Las Vegas\, Las Vegas\, NV\, 88901\, United States
CATEGORIES:Digital Infrastructure
ATTACH;FMTTYPE=image/jpeg:https://convergetp.com/wp-content/uploads/2022/04/Cisco-Logo-for-Events.jpg
END:VEVENT
BEGIN:VEVENT
DTSTART;TZID=America/Toronto:20230606T080000
DTEND;TZID=America/Toronto:20230618T170000
DTSTAMP:20260420T084158
CREATED:20230310T213612Z
LAST-MODIFIED:20230314T203431Z
UID:35308-1686038400-1687107600@convergetp.com
SUMMARY:F1 Cybersecurity Circuit - Montreal
DESCRIPTION:Join us for our F1 Cybersecurity Circuit in Montreal! If interested\, please reach out to Simon Demers at simon.demers@convergetp.com
URL:https://convergetp.com/event/f1-cybersecurity-circuit-montreal/
LOCATION:Montreal\, Montreal\, Canada
CATEGORIES:Cybersecurity,Digital Infrastructure
ATTACH;FMTTYPE=image/jpeg:https://convergetp.com/wp-content/uploads/2022/04/Converge-Logo-for-Events.jpg
END:VEVENT
BEGIN:VEVENT
DTSTART;TZID=America/Halifax:20230607T100000
DTEND;TZID=America/Halifax:20230607T160000
DTSTAMP:20260420T084158
CREATED:20230509T210531Z
LAST-MODIFIED:20230509T232903Z
UID:36855-1686132000-1686153600@convergetp.com
SUMMARY:Technical Workshop: Accelerate Cloud Migrations with VMware Cloud on AWS
DESCRIPTION:Converge’s Cloud Architects will lead a technical workshop to demonstrate how VMware Cloud on AWS reduces much of the complexity that is typically associated with cloud migrations. \nAttendees will learn the economics of a migrate to modernize strategy and how VMware Cloud on AWS can rapidly extend your data center to AWS by migrating and matching applications to their best cloud environment\, simplifying management with consistent operations\, and modernizing applications while mitigating risk. \nThe Agenda \nCloud Economics \nVMware Cloud on AWS Service Overview \nTechnical Overview of VMware Cloud on AWS & Labs \n\nFoundation Architecture\n\nLab – Introduction to VMware Cloud on AWS\n\n\n\n\nIntegrating with Native AWS Services\n\nLab – Managed AD and FSx\n\n\n\n\nVMware Cloud on AWS Migrations\n\nLab – Migrations with Hybrid Cloud Extension (HCX)\n\n\n\nPresenters: \nBJ Schwein\nCloud Solution Architect\nVMware Cloud \nPaul Ward\nCloud Solutions Architect\nService Delivery \nEpicurean Atlanta\n1117 West Peachtree Street\nAtlanta\, GA 30309\nPhone: (833)248-1670/ \nLunch and beverages will be provided! To offer quality lab experience\, seating will be limited to 25 attendees. Please be sure to bring your laptop. \nRegister Here
URL:https://convergetp.com/event/technical-workshop-accelerate-cloud-migrations-with-vmware-cloud-on-aws/
LOCATION:Atlanta\, Atlanta\, GA\, 30301\, United States
CATEGORIES:Cloud Platforms
ATTACH;FMTTYPE=image/jpeg:https://convergetp.com/wp-content/uploads/2022/04/AWS-and-VMware-Logos-for-Events.jpg
END:VEVENT
BEGIN:VEVENT
DTSTART;TZID=America/Chicago:20230607T170000
DTEND;TZID=America/Chicago:20230607T190000
DTSTAMP:20260420T084158
CREATED:20230501T135748Z
LAST-MODIFIED:20230501T135748Z
UID:36683-1686157200-1686164400@convergetp.com
SUMMARY:GIDS South Central Enablement Happy Hour
DESCRIPTION:Join us at our GIDS South Central Enablement Happy Hour! If interested\, please reach out to Lauren Mistler at lauren.mistler@convergetp.com
URL:https://convergetp.com/event/gids-south-central-enablement-happy-hour/
LOCATION:NY
CATEGORIES:GIDS
ATTACH;FMTTYPE=image/jpeg:https://convergetp.com/wp-content/uploads/2022/04/Microsoft-Logo-for-Events.jpg
END:VEVENT
END:VCALENDAR