BEGIN:VCALENDAR
VERSION:2.0
PRODID:-//Converge Technology Solutions - ECPv6.15.20//NONSGML v1.0//EN
CALSCALE:GREGORIAN
METHOD:PUBLISH
X-ORIGINAL-URL:https://convergetp.com
X-WR-CALDESC:Events for Converge Technology Solutions
REFRESH-INTERVAL;VALUE=DURATION:PT1H
X-Robots-Tag:noindex
X-PUBLISHED-TTL:PT1H
BEGIN:VTIMEZONE
TZID:America/Toronto
BEGIN:DAYLIGHT
TZOFFSETFROM:-0500
TZOFFSETTO:-0400
TZNAME:EDT
DTSTART:20230312T070000
END:DAYLIGHT
BEGIN:STANDARD
TZOFFSETFROM:-0400
TZOFFSETTO:-0500
TZNAME:EST
DTSTART:20231105T060000
END:STANDARD
BEGIN:DAYLIGHT
TZOFFSETFROM:-0500
TZOFFSETTO:-0400
TZNAME:EDT
DTSTART:20240310T070000
END:DAYLIGHT
BEGIN:STANDARD
TZOFFSETFROM:-0400
TZOFFSETTO:-0500
TZNAME:EST
DTSTART:20241103T060000
END:STANDARD
BEGIN:DAYLIGHT
TZOFFSETFROM:-0500
TZOFFSETTO:-0400
TZNAME:EDT
DTSTART:20250309T070000
END:DAYLIGHT
BEGIN:STANDARD
TZOFFSETFROM:-0400
TZOFFSETTO:-0500
TZNAME:EST
DTSTART:20251102T060000
END:STANDARD
END:VTIMEZONE
BEGIN:VEVENT
DTSTART;TZID=America/Toronto:20240617T080000
DTEND;TZID=America/Toronto:20240620T170000
DTSTAMP:20260421T083217
CREATED:20240227T183921Z
LAST-MODIFIED:20240227T183921Z
UID:41561-1718611200-1718902800@convergetp.com
SUMMARY:HPE Discover 2024
DESCRIPTION:Discover what’s next across Edge\, Hybrid Cloud and AI \n\n\nJoin us for HPE Discover 2024 for a connected experience like no other with access to the best of Edge\, Hybrid Cloud and AI – all in one place. \nCustomize your event experience across three curated Edge\, Hybrid Cloud and AI programs. With access to hundreds of sessions and demos across these topic areas you can meet with experts and peers\, elevate your skills\, and explore the solutions that will help you discover what’s next for your business from edge to cloud.
URL:https://convergetp.com/event/hpe-discover-2024/
LOCATION:Las Vegas\, Las Vegas\, NV\, 88901\, United States
CATEGORIES:Digital Infrastructure
ATTACH;FMTTYPE=image/png:https://convergetp.com/wp-content/uploads/2024/02/HPE-Discover.png
END:VEVENT
END:VCALENDAR