BEGIN:VCALENDAR
VERSION:2.0
PRODID:-//Converge Technology Solutions - ECPv6.15.20//NONSGML v1.0//EN
CALSCALE:GREGORIAN
METHOD:PUBLISH
X-ORIGINAL-URL:https://convergetp.com
X-WR-CALDESC:Events for Converge Technology Solutions
REFRESH-INTERVAL;VALUE=DURATION:PT1H
X-Robots-Tag:noindex
X-PUBLISHED-TTL:PT1H
BEGIN:VTIMEZONE
TZID:America/Toronto
BEGIN:DAYLIGHT
TZOFFSETFROM:-0500
TZOFFSETTO:-0400
TZNAME:EDT
DTSTART:20240310T070000
END:DAYLIGHT
BEGIN:STANDARD
TZOFFSETFROM:-0400
TZOFFSETTO:-0500
TZNAME:EST
DTSTART:20241103T060000
END:STANDARD
BEGIN:DAYLIGHT
TZOFFSETFROM:-0500
TZOFFSETTO:-0400
TZNAME:EDT
DTSTART:20250309T070000
END:DAYLIGHT
BEGIN:STANDARD
TZOFFSETFROM:-0400
TZOFFSETTO:-0500
TZNAME:EST
DTSTART:20251102T060000
END:STANDARD
BEGIN:DAYLIGHT
TZOFFSETFROM:-0500
TZOFFSETTO:-0400
TZNAME:EDT
DTSTART:20260308T070000
END:DAYLIGHT
BEGIN:STANDARD
TZOFFSETFROM:-0400
TZOFFSETTO:-0500
TZNAME:EST
DTSTART:20261101T060000
END:STANDARD
END:VTIMEZONE
BEGIN:VEVENT
DTSTART;VALUE=DATE:20250918
DTEND;VALUE=DATE:20250919
DTSTAMP:20260421T123134
CREATED:20250221T143536Z
LAST-MODIFIED:20250827T193557Z
UID:43137-1758153600-1758239999@convergetp.com
SUMMARY:Pellera Technology Summit | Milwaukee
DESCRIPTION:Where technology empowers the human side of business.\nJoin industry-leading experts and innovators as we step into the future to uncover how tech drives today’s outcomes and reimagines tomorrow’s possibilities. Customize your journey with three immersive tracks—AI & Innovation\, Security & Resilience\, and Cloud & Hybrid Transformation. \nStep into the future and go beyond the bounds of technology with Pellera as we AIM to turn bold ideas into groundbreaking insights and transformative action. \nDate: September 18\, 2025\nSave Your Spot: https://registration.socio.events/e/pelleratechsummit2025midwest \n  \n\n  \n  \nFor more information about this event\, please fill out the form below.
URL:https://convergetp.com/event/converge-technology-summit-milwaukee/
LOCATION:Milwaukee\, Milwaukee\, WI\, United States
CATEGORIES:Advanced Analytics,Application Modernization,Artificial Intellgience,Cloud Platforms,Cybersecurity,Digital Infrastructure,Digital Workplace,Managed Services
ATTACH;FMTTYPE=image/jpeg:https://convergetp.com/wp-content/uploads/2025/04/Milwaukee-Invite-Social.jpg
END:VEVENT
END:VCALENDAR