BEGIN:VCALENDAR
VERSION:2.0
PRODID:-//Converge Technology Solutions - ECPv6.15.20//NONSGML v1.0//EN
CALSCALE:GREGORIAN
METHOD:PUBLISH
X-WR-CALNAME:Converge Technology Solutions
X-ORIGINAL-URL:https://convergetp.com
X-WR-CALDESC:Events for Converge Technology Solutions
REFRESH-INTERVAL;VALUE=DURATION:PT1H
X-Robots-Tag:noindex
X-PUBLISHED-TTL:PT1H
BEGIN:VTIMEZONE
TZID:America/Toronto
BEGIN:DAYLIGHT
TZOFFSETFROM:-0500
TZOFFSETTO:-0400
TZNAME:EDT
DTSTART:20240310T070000
END:DAYLIGHT
BEGIN:STANDARD
TZOFFSETFROM:-0400
TZOFFSETTO:-0500
TZNAME:EST
DTSTART:20241103T060000
END:STANDARD
BEGIN:DAYLIGHT
TZOFFSETFROM:-0500
TZOFFSETTO:-0400
TZNAME:EDT
DTSTART:20250309T070000
END:DAYLIGHT
BEGIN:STANDARD
TZOFFSETFROM:-0400
TZOFFSETTO:-0500
TZNAME:EST
DTSTART:20251102T060000
END:STANDARD
BEGIN:DAYLIGHT
TZOFFSETFROM:-0500
TZOFFSETTO:-0400
TZNAME:EDT
DTSTART:20260308T070000
END:DAYLIGHT
BEGIN:STANDARD
TZOFFSETFROM:-0400
TZOFFSETTO:-0500
TZNAME:EST
DTSTART:20261101T060000
END:STANDARD
END:VTIMEZONE
BEGIN:VEVENT
DTSTART;VALUE=DATE:20251213
DTEND;VALUE=DATE:20251214
DTSTAMP:20260423T173324
CREATED:20250811T134546Z
LAST-MODIFIED:20250811T134546Z
UID:43622-1765584000-1765670399@convergetp.com
SUMMARY:America's Game | Army vs. Navy Game Day Experience
DESCRIPTION:Join us for an unforgettable day of tradition\, rivalry\, and camaraderie as we host our valued clients at the iconic Army vs. Navy football game. This exclusive experience will celebrate the spirit of service and competition\, offering a premium game-day environment with exceptional hospitality. \nMore details to follow! \n  \n\n  \n \nFor more information about this event\, please fill out the form below.
URL:https://convergetp.com/event/americas-game-army-vs-navy-game-day-experience/
LOCATION:M&T Bank Stadium\, 1101 Russell St\,\, Baltimore\, MD\, 21230\, United States
CATEGORIES:Advanced Analytics,Application Modernization,Artificial Intellgience,Cloud Platforms,Cybersecurity,Digital Infrastructure,Digital Workplace,Managed Services
ATTACH;FMTTYPE=image/jpeg:https://convergetp.com/wp-content/uploads/2025/08/Football-Army-Navy-2025.jpg
END:VEVENT
END:VCALENDAR