BEGIN:VCALENDAR
VERSION:2.0
PRODID:-//Converge Technology Solutions - ECPv6.15.20//NONSGML v1.0//EN
CALSCALE:GREGORIAN
METHOD:PUBLISH
X-WR-CALNAME:Converge Technology Solutions
X-ORIGINAL-URL:https://convergetp.com
X-WR-CALDESC:Events for Converge Technology Solutions
REFRESH-INTERVAL;VALUE=DURATION:PT1H
X-Robots-Tag:noindex
X-PUBLISHED-TTL:PT1H
BEGIN:VTIMEZONE
TZID:America/Toronto
BEGIN:DAYLIGHT
TZOFFSETFROM:-0500
TZOFFSETTO:-0400
TZNAME:EDT
DTSTART:20240310T070000
END:DAYLIGHT
BEGIN:STANDARD
TZOFFSETFROM:-0400
TZOFFSETTO:-0500
TZNAME:EST
DTSTART:20241103T060000
END:STANDARD
BEGIN:DAYLIGHT
TZOFFSETFROM:-0500
TZOFFSETTO:-0400
TZNAME:EDT
DTSTART:20250309T070000
END:DAYLIGHT
BEGIN:STANDARD
TZOFFSETFROM:-0400
TZOFFSETTO:-0500
TZNAME:EST
DTSTART:20251102T060000
END:STANDARD
BEGIN:DAYLIGHT
TZOFFSETFROM:-0500
TZOFFSETTO:-0400
TZNAME:EDT
DTSTART:20260308T070000
END:DAYLIGHT
BEGIN:STANDARD
TZOFFSETFROM:-0400
TZOFFSETTO:-0500
TZNAME:EST
DTSTART:20261101T060000
END:STANDARD
END:VTIMEZONE
BEGIN:VEVENT
DTSTART;TZID=America/Toronto:20251216T170000
DTEND;TZID=America/Toronto:20251216T220000
DTSTAMP:20260423T202038
CREATED:20251120T143727Z
LAST-MODIFIED:20251120T165456Z
UID:43688-1765904400-1765922400@convergetp.com
SUMMARY:Radio City Christmas Spectacular Starring: The Rockettes
DESCRIPTION:Experience the Magic of the Holidays at Radio City! We’re thrilled to invite you to an unforgettable\, exclusive evening at the Radio City Rockettes Christmas Spectacular\, Roxy Suite Experience on Tuesday\, December 16th. \nWhat’s Included:  \n\nPremium Roxy Suite Access – Enjoy the show from one of the most coveted spaces in the venue\, offering comfort and elegance.\nDinner by Tao – Indulge in a curated dining experience featuring Tao’s signature flavors\, complemented by full suite amenities.\nThe Christmas Spectacular Performance – Witness the timeless tradition and dazzling choreography that has captivated audiences for generations.\n\n**Bring a plus one and share this experience with someone special.**  \nWhy You Can’t Miss This:  \n\nA rare opportunity to combine world-class entertainment with fine dining.\nThe perfect way to celebrate the holiday season in style.\nAn intimate setting for networking and creating lasting memories.\n\nReserve your spot today and make this holiday season truly spectacular! \nDate: Tuesday\, December 16\, 2025\nTime: 5:00 PM ET\nWhere: Radio City Music Hall | New York City\nRegister: lauren.berman@pellera.com
URL:https://convergetp.com/event/radio-city-christmas-spectacular-starring-the-rockettes/
LOCATION:Radio City Music Hall\, New York City\, NY\, United States
CATEGORIES:Advanced Analytics,Application Modernization,Artificial Intellgience,Cloud Platforms,Cybersecurity,Digital Infrastructure,Digital Workplace,Managed Services
ATTACH;FMTTYPE=image/jpeg:https://convergetp.com/wp-content/uploads/2025/11/Rockettes-2025.jpg
END:VEVENT
END:VCALENDAR